BEGIN:VCALENDAR
VERSION:2.0
PRODID:-//hacksw/handcal//NONSGML v1.0//EN
BEGIN:VEVENT
UID:2962
DTSTART;VALUE=DATE:20150117
URL;VALUE=URI:ohschonhell.at/?page_id=5829
SUMMARY:Tanzmatratze &amp\; Kumpanen
LOCATION:ELEKTRO GÖNNER
END:VEVENT
END:VCALENDAR


