BEGIN:VCALENDAR
VERSION:2.0
PRODID:-//hacksw/handcal//NONSGML v1.0//EN
BEGIN:VEVENT
UID:2964
DTSTART;VALUE=DATE:20150204
URL;VALUE=URI:ohschonhell.at/?page_id=5831
SUMMARY:ASTRA
LOCATION:ELEKTRO GÖNNER
END:VEVENT
END:VCALENDAR


