BEGIN:VCALENDAR
VERSION:2.0
PRODID:-//hacksw/handcal//NONSGML v1.0//EN
BEGIN:VEVENT
UID:2973
DTSTART;VALUE=DATE:20150123
URL;VALUE=URI:ohschonhell.at/?page_id=5840
SUMMARY:TANZSEMINAR @ THE LOUNGE FEAT. MARCELL WALLET // JOHANN &amp\; GRETHE // B.APE - AFFENTHEATER
LOCATION:WOMBATS THE LOUNGE
END:VEVENT
END:VCALENDAR


