BEGIN:VCALENDAR
VERSION:2.0
PRODID:-//hacksw/handcal//NONSGML v1.0//EN
BEGIN:VEVENT
UID:2975
DTSTART;VALUE=DATE:20150123
URL;VALUE=URI:ohschonhell.at/?page_id=5842
SUMMARY:AUSLAGE X WANDERHUREN
LOCATION:AUSLAGE
END:VEVENT
END:VCALENDAR


