BEGIN:VCALENDAR
VERSION:2.0
PRODID:-//hacksw/handcal//NONSGML v1.0//EN
BEGIN:VEVENT
UID:2981
DTSTART;VALUE=DATE:20150207
URL;VALUE=URI:ohschonhell.at/?page_id=5849
SUMMARY:. . . und dann kam Techno
LOCATION:OPERA CLUB
END:VEVENT
END:VCALENDAR


