BEGIN:VCALENDAR
VERSION:2.0
PRODID:-//hacksw/handcal//NONSGML v1.0//EN
BEGIN:VEVENT
UID:2989
DTSTART;VALUE=DATE:20150131
URL;VALUE=URI:ohschonhell.at/?page_id=5859
SUMMARY:wiener endorphine – NAPHTA*live
LOCATION:DUAL
END:VEVENT
END:VCALENDAR


