BEGIN:VCALENDAR
VERSION:2.0
PRODID:-//hacksw/handcal//NONSGML v1.0//EN
BEGIN:VEVENT
UID:2993
DTSTART;VALUE=DATE:20150213
URL;VALUE=URI:ohschonhell.at/?page_id=5864
SUMMARY:Schmusen mit... SUPER FLU [monaberry] • bakery hosted by Technoball • die Kantine
LOCATION:DIE KANTINE
END:VEVENT
END:VCALENDAR


