BEGIN:VCALENDAR
VERSION:2.0
PRODID:-//hacksw/handcal//NONSGML v1.0//EN
BEGIN:VEVENT
UID:2995
DTSTART;VALUE=DATE:20150130
URL;VALUE=URI:ohschonhell.at/?page_id=5866
SUMMARY:House und Hof #BBG Edition
LOCATION:RAGNARHOF
END:VEVENT
END:VCALENDAR


