BEGIN:VCALENDAR
VERSION:2.0
PRODID:-//hacksw/handcal//NONSGML v1.0//EN
BEGIN:VEVENT
UID:2996
DTSTART;VALUE=DATE:20150227
URL;VALUE=URI:ohschonhell.at/?page_id=5871
SUMMARY:CARNIVAL ★ THE SHOW MUST GO ON ★ die Kantine
LOCATION:DIE KANTINE
END:VEVENT
END:VCALENDAR


