BEGIN:VCALENDAR
VERSION:2.0
PRODID:-//hacksw/handcal//NONSGML v1.0//EN
BEGIN:VEVENT
UID:2999
DTSTART;VALUE=DATE:20150123
URL;VALUE=URI:ohschonhell.at/?page_id=5875
SUMMARY:SPIELPLATZ: ★★★★ Season Opening ★★★★
LOCATION:CAMERA CLUB
END:VEVENT
END:VCALENDAR


