BEGIN:VCALENDAR
VERSION:2.0
PRODID:-//hacksw/handcal//NONSGML v1.0//EN
BEGIN:VEVENT
UID:30
DTSTART;VALUE=DATE:20131116
URL;VALUE=URI:ohschonhell.at/?page_id=2427
SUMMARY:Red Bull Music Academy Bass Camp: FOUR TET\, DORIAN CONCEPT\, SLUTS&#039\;N STRINGS &amp\; 909
LOCATION:WUK
END:VEVENT
END:VCALENDAR


