BEGIN:VCALENDAR
VERSION:2.0
PRODID:-//hacksw/handcal//NONSGML v1.0//EN
BEGIN:VEVENT
UID:3008
DTSTART;VALUE=DATE:20150122
URL;VALUE=URI:ohschonhell.at/?page_id=5887
SUMMARY:Schmock - Rambazamba mit Moran und Valentin
LOCATION:ELEKTRO GÖNNER
END:VEVENT
END:VCALENDAR


