BEGIN:VCALENDAR
VERSION:2.0
PRODID:-//hacksw/handcal//NONSGML v1.0//EN
BEGIN:VEVENT
UID:3025
DTSTART;VALUE=DATE:20150214
URL;VALUE=URI:ohschonhell.at/?page_id=5906
SUMMARY:Lu(X)us_probleme
LOCATION:DUAL
END:VEVENT
END:VCALENDAR


