BEGIN:VCALENDAR
VERSION:2.0
PRODID:-//hacksw/handcal//NONSGML v1.0//EN
BEGIN:VEVENT
UID:3054
DTSTART;VALUE=DATE:20150207
URL;VALUE=URI:ohschonhell.at/?page_id=5937
SUMMARY:COCOON NIGHT w. POPOF [paris] - die Kantine
LOCATION:DIE KANTINE
END:VEVENT
END:VCALENDAR


