BEGIN:VCALENDAR
VERSION:2.0
PRODID:-//hacksw/handcal//NONSGML v1.0//EN
BEGIN:VEVENT
UID:306
DTSTART;VALUE=DATE:20131221
URL;VALUE=URI:ohschonhell.at/?page_id=2783
SUMMARY:Heroes of House - Dj Deep Annick &amp\;amp\;amp\;  Gualtiero
LOCATION:BAR ITALIA
END:VEVENT
END:VCALENDAR


