BEGIN:VCALENDAR
VERSION:2.0
PRODID:-//hacksw/handcal//NONSGML v1.0//EN
BEGIN:VEVENT
UID:3060
DTSTART;VALUE=DATE:20150207
URL;VALUE=URI:ohschonhell.at/?page_id=5944
SUMMARY:◥ zErO gRaViTy´s  progression sessions
LOCATION:FLEX CAFE
END:VEVENT
END:VCALENDAR


