BEGIN:VCALENDAR
VERSION:2.0
PRODID:-//hacksw/handcal//NONSGML v1.0//EN
BEGIN:VEVENT
UID:3075
DTSTART;VALUE=DATE:20150201
URL;VALUE=URI:ohschonhell.at/?page_id=5963
SUMMARY:Die Wanderhuren Matinee - Teil 5 - mit einem speziellen Gast!
LOCATION:QUEEN CLUB
END:VEVENT
END:VCALENDAR


