BEGIN:VCALENDAR
VERSION:2.0
PRODID:-//hacksw/handcal//NONSGML v1.0//EN
BEGIN:VEVENT
UID:3097
DTSTART;VALUE=DATE:20150206
URL;VALUE=URI:ohschonhell.at/?page_id=5988
SUMMARY:FR. 06.02. READY2RUMBLE pres. URBAN ELECTRONICS &amp\; JAMAICAN VIBEZ w/ HEAVY CANDY LIVE &amp\; MANY MORE ON 2 FLOORS @ CAFE LEOPOLD
LOCATION:CAFE LEOPOLD
END:VEVENT
END:VCALENDAR


