BEGIN:VCALENDAR
VERSION:2.0
PRODID:-//hacksw/handcal//NONSGML v1.0//EN
BEGIN:VEVENT
UID:311
DTSTART;VALUE=DATE:20131221
URL;VALUE=URI:ohschonhell.at/?page_id=2788
SUMMARY:FANTASTIC 5
LOCATION:OBEN
END:VEVENT
END:VCALENDAR


