BEGIN:VCALENDAR
VERSION:2.0
PRODID:-//hacksw/handcal//NONSGML v1.0//EN
BEGIN:VEVENT
UID:3122
DTSTART;VALUE=DATE:20150221
URL;VALUE=URI:ohschonhell.at/?page_id=6017
SUMMARY:Zweikanalton &quot\;Basement Sessions&quot\;
LOCATION:DUAL
END:VEVENT
END:VCALENDAR


