BEGIN:VCALENDAR
VERSION:2.0
PRODID:-//hacksw/handcal//NONSGML v1.0//EN
BEGIN:VEVENT
UID:3129
DTSTART;VALUE=DATE:20150208
URL;VALUE=URI:ohschonhell.at/?page_id=6024
SUMMARY:teCHnO brUNcH mit Dominik Löblich
LOCATION:RADIO - THE LABEL BAR
END:VEVENT
END:VCALENDAR


