BEGIN:VCALENDAR
VERSION:2.0
PRODID:-//hacksw/handcal//NONSGML v1.0//EN
BEGIN:VEVENT
UID:3148
DTSTART;VALUE=DATE:20150213
URL;VALUE=URI:ohschonhell.at/?page_id=6046
SUMMARY:FEAR\, DARK and LOATHING in VIENNA - Part 4
LOCATION:SPITTELAU 10
END:VEVENT
END:VCALENDAR


