BEGIN:VCALENDAR
VERSION:2.0
PRODID:-//hacksw/handcal//NONSGML v1.0//EN
BEGIN:VEVENT
UID:3156
DTSTART;VALUE=DATE:20150214
URL;VALUE=URI:ohschonhell.at/?page_id=6055
SUMMARY:MY BABY VALENTINE
LOCATION:KIOSK SCHLEIFMÜHLGASSE
END:VEVENT
END:VCALENDAR


