BEGIN:VCALENDAR
VERSION:2.0
PRODID:-//hacksw/handcal//NONSGML v1.0//EN
BEGIN:VEVENT
UID:3180
DTSTART;VALUE=DATE:20150228
URL;VALUE=URI:ohschonhell.at/?page_id=6087
SUMMARY:Bumsbart I
LOCATION:DUAL
END:VEVENT
END:VCALENDAR


