BEGIN:VCALENDAR
VERSION:2.0
PRODID:-//hacksw/handcal//NONSGML v1.0//EN
BEGIN:VEVENT
UID:3181
DTSTART;VALUE=DATE:20151031
URL;VALUE=URI:ohschonhell.at/?page_id=6088
SUMMARY:ParadiseCity 2015
LOCATION:RATHAUS
END:VEVENT
END:VCALENDAR


