BEGIN:VCALENDAR
VERSION:2.0
PRODID:-//hacksw/handcal//NONSGML v1.0//EN
BEGIN:VEVENT
UID:3220
DTSTART;VALUE=DATE:20150227
URL;VALUE=URI:ohschonhell.at/?page_id=6131
SUMMARY:GOA im GRU - Xavario´s 20 Birthday Bash
LOCATION:KLUB GRU
END:VEVENT
END:VCALENDAR


