BEGIN:VCALENDAR
VERSION:2.0
PRODID:-//hacksw/handcal//NONSGML v1.0//EN
BEGIN:VEVENT
UID:3250
DTSTART;VALUE=DATE:20150321
URL;VALUE=URI:ohschonhell.at/?page_id=6174
SUMMARY:BEATCLUB - Dorfmeister\, Trüby\, Megablast\, Weisz
LOCATION:LE MÉRIDIEN
END:VEVENT
END:VCALENDAR


