BEGIN:VCALENDAR
VERSION:2.0
PRODID:-//hacksw/handcal//NONSGML v1.0//EN
BEGIN:VEVENT
UID:3252
DTSTART;VALUE=DATE:20150306
URL;VALUE=URI:ohschonhell.at/?page_id=6176
SUMMARY:Lost in Bass
LOCATION:ELEKTRO GÖNNER
END:VEVENT
END:VCALENDAR


