BEGIN:VCALENDAR
VERSION:2.0
PRODID:-//hacksw/handcal//NONSGML v1.0//EN
BEGIN:VEVENT
UID:3257
DTSTART;VALUE=DATE:20150313
URL;VALUE=URI:ohschonhell.at/?page_id=6181
SUMMARY:2 JAHRE NASCHEREI mit Nhan Solo »●« 13.03 »●« SASS Music Club
LOCATION:SASS
END:VEVENT
END:VCALENDAR


