BEGIN:VCALENDAR
VERSION:2.0
PRODID:-//hacksw/handcal//NONSGML v1.0//EN
BEGIN:VEVENT
UID:326
DTSTART;VALUE=DATE:20131231
URL;VALUE=URI:ohschonhell.at/?page_id=2805
SUMMARY:THE MOST EXPECTED PARTY OF THE YEAR // 31st December // DOTS 21
LOCATION:DOTS twentyone
END:VEVENT
END:VCALENDAR


