BEGIN:VCALENDAR
VERSION:2.0
PRODID:-//hacksw/handcal//NONSGML v1.0//EN
BEGIN:VEVENT
UID:3264
DTSTART;VALUE=DATE:20150314
URL;VALUE=URI:ohschonhell.at/?page_id=6189
SUMMARY:Fairys\, Unicorns &amp\; Freaks mit Freedom B (Heinz Music / Berlin)
LOCATION:RADIO - THE LABEL BAR
END:VEVENT
END:VCALENDAR


