BEGIN:VCALENDAR
VERSION:2.0
PRODID:-//hacksw/handcal//NONSGML v1.0//EN
BEGIN:VEVENT
UID:3312
DTSTART;VALUE=DATE:20150312
URL;VALUE=URI:ohschonhell.at/?page_id=6259
SUMMARY:Donnerstag Nacht - Monatsprogramm - März
LOCATION:SASS
END:VEVENT
END:VCALENDAR


