BEGIN:VCALENDAR
VERSION:2.0
PRODID:-//hacksw/handcal//NONSGML v1.0//EN
BEGIN:VEVENT
UID:3321
DTSTART;VALUE=DATE:20150313
URL;VALUE=URI:ohschonhell.at/?page_id=6269
SUMMARY:OBERST &amp\; BUCHNER für Dynamo Ferdl
LOCATION:ZUM GSCHUPFTN FERDL
END:VEVENT
END:VCALENDAR


