BEGIN:VCALENDAR
VERSION:2.0
PRODID:-//hacksw/handcal//NONSGML v1.0//EN
BEGIN:VEVENT
UID:3336
DTSTART;VALUE=DATE:20150308
URL;VALUE=URI:ohschonhell.at/?page_id=6285
SUMMARY:TeCHnO brUNcH
LOCATION:RADIO - THE LABEL BAR
END:VEVENT
END:VCALENDAR


