BEGIN:VCALENDAR
VERSION:2.0
PRODID:-//hacksw/handcal//NONSGML v1.0//EN
BEGIN:VEVENT
UID:3347
DTSTART;VALUE=DATE:20150313
URL;VALUE=URI:ohschonhell.at/?page_id=6296
SUMMARY:wiener endorphine – KICKFLIP MIKE { box aus holz | TORBEN }
LOCATION:DUAL
END:VEVENT
END:VCALENDAR


