BEGIN:VCALENDAR
VERSION:2.0
PRODID:-//hacksw/handcal//NONSGML v1.0//EN
BEGIN:VEVENT
UID:3361
DTSTART;VALUE=DATE:20150403
URL;VALUE=URI:ohschonhell.at/?page_id=6313
SUMMARY:&#039\;Lost in Bass&#039\; feat. Herbert Pasiecznyk
LOCATION:ELEKTRO GÖNNER
END:VEVENT
END:VCALENDAR


