BEGIN:VCALENDAR
VERSION:2.0
PRODID:-//hacksw/handcal//NONSGML v1.0//EN
BEGIN:VEVENT
UID:337
DTSTART;VALUE=DATE:20140105
URL;VALUE=URI:ohschonhell.at/?page_id=2817
SUMMARY:VOLLKONTAKT &quot\;Classics Night&quot\; &amp\; COMMIX &quot\;Classics Set&quot\; (Metalheadz/UK)
LOCATION:FLUCC
END:VEVENT
END:VCALENDAR


