BEGIN:VCALENDAR
VERSION:2.0
PRODID:-//hacksw/handcal//NONSGML v1.0//EN
BEGIN:VEVENT
UID:3378
DTSTART;VALUE=DATE:20150403
URL;VALUE=URI:ohschonhell.at/?page_id=6330
SUMMARY:Schmusen mit... JAN BLOMQVIST live ❤ Stil vor Talent
LOCATION:DIE KANTINE
END:VEVENT
END:VCALENDAR


