BEGIN:VCALENDAR
VERSION:2.0
PRODID:-//hacksw/handcal//NONSGML v1.0//EN
BEGIN:VEVENT
UID:338
DTSTART;VALUE=DATE:20140110
URL;VALUE=URI:ohschonhell.at/?page_id=2818
SUMMARY:Vienn_a_Tek *Snow Edition*
LOCATION:FLUCC
END:VEVENT
END:VCALENDAR


