BEGIN:VCALENDAR
VERSION:2.0
PRODID:-//hacksw/handcal//NONSGML v1.0//EN
BEGIN:VEVENT
UID:3385
DTSTART;VALUE=DATE:20150320
URL;VALUE=URI:ohschonhell.at/?page_id=6338
SUMMARY:Erdbahnkreuzer / Agency Amore LIVE &amp\; spAceLex dj-set
LOCATION:CLUB TITANIC
END:VEVENT
END:VCALENDAR


