BEGIN:VCALENDAR
VERSION:2.0
PRODID:-//hacksw/handcal//NONSGML v1.0//EN
BEGIN:VEVENT
UID:3389
DTSTART;VALUE=DATE:20150425
URL;VALUE=URI:ohschonhell.at/?page_id=6343
SUMMARY:Salon Gold | EAST END DUBS
LOCATION:SASS
END:VEVENT
END:VCALENDAR


