BEGIN:VCALENDAR
VERSION:2.0
PRODID:-//hacksw/handcal//NONSGML v1.0//EN
BEGIN:VEVENT
UID:3421
DTSTART;VALUE=DATE:20150411
URL;VALUE=URI:ohschonhell.at/?page_id=6382
SUMMARY:Salon Gold | DJ T. | Get Physical Music\, Berlin
LOCATION:SASS
END:VEVENT
END:VCALENDAR


