BEGIN:VCALENDAR
VERSION:2.0
PRODID:-//hacksw/handcal//NONSGML v1.0//EN
BEGIN:VEVENT
UID:3424
DTSTART;VALUE=DATE:20150401
URL;VALUE=URI:ohschonhell.at/?page_id=6385
SUMMARY:KIOSK 5TAKT 20th Anniversary
LOCATION:KIOSK SCHLEIFMÜHLGASSE
END:VEVENT
END:VCALENDAR


