BEGIN:VCALENDAR
VERSION:2.0
PRODID:-//hacksw/handcal//NONSGML v1.0//EN
BEGIN:VEVENT
UID:3438
DTSTART;VALUE=DATE:20150404
URL;VALUE=URI:ohschonhell.at/?page_id=6406
SUMMARY:Salon Gold mit Deep Baked
LOCATION:SASS
END:VEVENT
END:VCALENDAR


