BEGIN:VCALENDAR
VERSION:2.0
PRODID:-//hacksw/handcal//NONSGML v1.0//EN
BEGIN:VEVENT
UID:3445
DTSTART;VALUE=DATE:20150321
URL;VALUE=URI:ohschonhell.at/?page_id=6414
SUMMARY:Brain Damage Vol.15
LOCATION:VIPER ROOM
END:VEVENT
END:VCALENDAR


