BEGIN:VCALENDAR
VERSION:2.0
PRODID:-//hacksw/handcal//NONSGML v1.0//EN
BEGIN:VEVENT
UID:3450
DTSTART;VALUE=DATE:20150320
URL;VALUE=URI:ohschonhell.at/?page_id=6419
SUMMARY:StadtLandFluss @ Elektro Gönner
LOCATION:ELEKTRO GÖNNER
END:VEVENT
END:VCALENDAR


