BEGIN:VCALENDAR
VERSION:2.0
PRODID:-//hacksw/handcal//NONSGML v1.0//EN
BEGIN:VEVENT
UID:3455
DTSTART;VALUE=DATE:20150328
URL;VALUE=URI:ohschonhell.at/?page_id=6425
SUMMARY:ELEKTROLAND PARTY @ ELEKTRO GÖNNER
LOCATION:ELEKTRO GÖNNER
END:VEVENT
END:VCALENDAR


