BEGIN:VCALENDAR
VERSION:2.0
PRODID:-//hacksw/handcal//NONSGML v1.0//EN
BEGIN:VEVENT
UID:3462
DTSTART;VALUE=DATE:20150417
URL;VALUE=URI:ohschonhell.at/?page_id=6432
SUMMARY:★ Sweet Heat - Disco\, Bass\, Blings ★
LOCATION:BRUT
END:VEVENT
END:VCALENDAR


