BEGIN:VCALENDAR
VERSION:2.0
PRODID:-//hacksw/handcal//NONSGML v1.0//EN
BEGIN:VEVENT
UID:348
DTSTART;VALUE=DATE:20131228
URL;VALUE=URI:ohschonhell.at/?page_id=2829
SUMMARY:Sa.28.12.13 - Club MNML at Camera Club/EXTRABLATT
LOCATION:CAMERA CLUB
END:VEVENT
END:VCALENDAR


