BEGIN:VCALENDAR
VERSION:2.0
PRODID:-//hacksw/handcal//NONSGML v1.0//EN
BEGIN:VEVENT
UID:3487
DTSTART;VALUE=DATE:20150327
URL;VALUE=URI:ohschonhell.at/?page_id=6460
SUMMARY:UPD8E pres. PAUL SG &amp\; HAZE
LOCATION:DUAL
END:VEVENT
END:VCALENDAR


